BEGIN:VCALENDAR
VERSION:2.0
PRODID:-//Element Eatery - ECPv6.15.18//NONSGML v1.0//EN
CALSCALE:GREGORIAN
METHOD:PUBLISH
X-ORIGINAL-URL:https://www.element-eatery.com
X-WR-CALDESC:Events for Element Eatery
REFRESH-INTERVAL;VALUE=DURATION:PT1H
X-Robots-Tag:noindex
X-PUBLISHED-TTL:PT1H
BEGIN:VTIMEZONE
TZID:America/New_York
BEGIN:DAYLIGHT
TZOFFSETFROM:-0500
TZOFFSETTO:-0400
TZNAME:EDT
DTSTART:20240310T070000
END:DAYLIGHT
BEGIN:STANDARD
TZOFFSETFROM:-0400
TZOFFSETTO:-0500
TZNAME:EST
DTSTART:20241103T060000
END:STANDARD
BEGIN:DAYLIGHT
TZOFFSETFROM:-0500
TZOFFSETTO:-0400
TZNAME:EDT
DTSTART:20250309T070000
END:DAYLIGHT
BEGIN:STANDARD
TZOFFSETFROM:-0400
TZOFFSETTO:-0500
TZNAME:EST
DTSTART:20251102T060000
END:STANDARD
BEGIN:DAYLIGHT
TZOFFSETFROM:-0500
TZOFFSETTO:-0400
TZNAME:EDT
DTSTART:20260308T070000
END:DAYLIGHT
BEGIN:STANDARD
TZOFFSETFROM:-0400
TZOFFSETTO:-0500
TZNAME:EST
DTSTART:20261101T060000
END:STANDARD
END:VTIMEZONE
BEGIN:VEVENT
DTSTART;TZID=America/New_York:20250401T190000
DTEND;TZID=America/New_York:20250401T210000
DTSTAMP:20260422T080910
CREATED:20250318T135050Z
LAST-MODIFIED:20250318T195621Z
UID:10003064-1743534000-1743541200@www.element-eatery.com
SUMMARY:80s Theme Trivia
DESCRIPTION:
URL:https://www.element-eatery.com/event/80s-theme-trivia/
LOCATION:OH
CATEGORIES:Trivia
END:VEVENT
BEGIN:VEVENT
DTSTART;TZID=America/New_York:20250401T190000
DTEND;TZID=America/New_York:20250401T210000
DTSTAMP:20260422T080910
CREATED:20250318T135105Z
LAST-MODIFIED:20251205T151536Z
UID:10003995-1743534000-1743541200@www.element-eatery.com
SUMMARY:Mix Tape Bingo Night
DESCRIPTION:
URL:https://www.element-eatery.com/event/bingo-night/2025-04-01/
LOCATION:Element Eatery\, 5350 Medpace Way\, Cincinnati\, OH\, 45227\, United States
CATEGORIES:Entertainment
ATTACH;FMTTYPE=image/jpeg:https://www.element-eatery.com/wp-content/uploads/2025/09/DSC_6537-Enhanced-NRcopy.jpg
END:VEVENT
BEGIN:VEVENT
DTSTART;TZID=America/New_York:20250402T190000
DTEND;TZID=America/New_York:20250402T210000
DTSTAMP:20260422T080910
CREATED:20250318T135105Z
LAST-MODIFIED:20260129T135432Z
UID:10004040-1743620400-1743627600@www.element-eatery.com
SUMMARY:Mix Tape Music Bingo
DESCRIPTION:
URL:https://www.element-eatery.com/event/mix-tape-music-bingo/2025-04-02/
LOCATION:Element Eatery\, 5350 Medpace Way\, Cincinnati\, OH\, 45227\, United States
CATEGORIES:Entertainment
ATTACH;FMTTYPE=image/jpeg:https://www.element-eatery.com/wp-content/uploads/2025/12/DSC_0042copy.jpg
END:VEVENT
BEGIN:VEVENT
DTSTART;TZID=America/New_York:20250403T180000
DTEND;TZID=America/New_York:20250403T220000
DTSTAMP:20260422T080910
CREATED:20250318T135050Z
LAST-MODIFIED:20250318T193444Z
UID:10003066-1743703200-1743717600@www.element-eatery.com
SUMMARY:Brian Martin
DESCRIPTION:
URL:https://www.element-eatery.com/event/brian-martin/
LOCATION:OH
CATEGORIES:Live Music
END:VEVENT
BEGIN:VEVENT
DTSTART;TZID=America/New_York:20250404T180000
DTEND;TZID=America/New_York:20250404T220000
DTSTAMP:20260422T080910
CREATED:20250318T135050Z
LAST-MODIFIED:20250318T193448Z
UID:10003067-1743789600-1743804000@www.element-eatery.com
SUMMARY:Jeff Limer and Kate Cosentino
DESCRIPTION:
URL:https://www.element-eatery.com/event/jeff-limer-and-kate-cosentino/
LOCATION:OH
CATEGORIES:Live Music
END:VEVENT
BEGIN:VEVENT
DTSTART;TZID=America/New_York:20250405T130000
DTEND;TZID=America/New_York:20250405T160000
DTSTAMP:20260422T080910
CREATED:20250318T135051Z
LAST-MODIFIED:20250318T193452Z
UID:10003069-1743858000-1743868800@www.element-eatery.com
SUMMARY:Ryan Alfred
DESCRIPTION:
URL:https://www.element-eatery.com/event/ryan-alfred/
LOCATION:OH
CATEGORIES:Live Music
END:VEVENT
BEGIN:VEVENT
DTSTART;TZID=America/New_York:20250406T160000
DTEND;TZID=America/New_York:20250406T200000
DTSTAMP:20260422T080910
CREATED:20250318T135051Z
LAST-MODIFIED:20250318T193500Z
UID:10003071-1743955200-1743969600@www.element-eatery.com
SUMMARY:Open Mic With Nathan Jenkins
DESCRIPTION:
URL:https://www.element-eatery.com/event/open-mic-with-nathan-jenkins/
LOCATION:OH
CATEGORIES:Entertainment
END:VEVENT
BEGIN:VEVENT
DTSTART;TZID=America/New_York:20250407T190000
DTEND;TZID=America/New_York:20250407T210000
DTSTAMP:20260422T080910
CREATED:20250314T174227Z
LAST-MODIFIED:20260129T135009Z
UID:10002005-1744052400-1744059600@www.element-eatery.com
SUMMARY:Trivia Night
DESCRIPTION:
URL:https://www.element-eatery.com/event/trivia/2025-04-07/
LOCATION:Element Eatery\, 5350 Medpace Way\, Cincinnati\, OH\, 45227\, United States
CATEGORIES:Trivia
ATTACH;FMTTYPE=image/jpeg:https://www.element-eatery.com/wp-content/uploads/2025/03/DSC_0050copy.jpg
END:VEVENT
BEGIN:VEVENT
DTSTART;TZID=America/New_York:20250408T190000
DTEND;TZID=America/New_York:20250408T210000
DTSTAMP:20260422T080910
CREATED:20250318T135105Z
LAST-MODIFIED:20251205T151536Z
UID:10003996-1744138800-1744146000@www.element-eatery.com
SUMMARY:Mix Tape Bingo Night
DESCRIPTION:
URL:https://www.element-eatery.com/event/bingo-night/2025-04-08/
LOCATION:Element Eatery\, 5350 Medpace Way\, Cincinnati\, OH\, 45227\, United States
CATEGORIES:Entertainment
ATTACH;FMTTYPE=image/jpeg:https://www.element-eatery.com/wp-content/uploads/2025/09/DSC_6537-Enhanced-NRcopy.jpg
END:VEVENT
BEGIN:VEVENT
DTSTART;TZID=America/New_York:20250409T190000
DTEND;TZID=America/New_York:20250409T210000
DTSTAMP:20260422T080910
CREATED:20250318T135105Z
LAST-MODIFIED:20260129T135432Z
UID:10004041-1744225200-1744232400@www.element-eatery.com
SUMMARY:Mix Tape Music Bingo
DESCRIPTION:
URL:https://www.element-eatery.com/event/mix-tape-music-bingo/2025-04-09/
LOCATION:Element Eatery\, 5350 Medpace Way\, Cincinnati\, OH\, 45227\, United States
CATEGORIES:Entertainment
ATTACH;FMTTYPE=image/jpeg:https://www.element-eatery.com/wp-content/uploads/2025/12/DSC_0042copy.jpg
END:VEVENT
BEGIN:VEVENT
DTSTART;TZID=America/New_York:20250410T140000
DTEND;TZID=America/New_York:20250410T190000
DTSTAMP:20260422T080910
CREATED:20250318T135051Z
LAST-MODIFIED:20250407T181311Z
UID:10003075-1744293600-1744311600@www.element-eatery.com
SUMMARY:JON JON LIVE
DESCRIPTION:
URL:https://www.element-eatery.com/event/jon-jon-live/
LOCATION:OH
CATEGORIES:Entertainment
ATTACH;FMTTYPE=image/jpeg:https://www.element-eatery.com/wp-content/uploads/2025/03/Jon-Jon-.jpg
END:VEVENT
BEGIN:VEVENT
DTSTART;TZID=America/New_York:20250411T180000
DTEND;TZID=America/New_York:20250411T220000
DTSTAMP:20260422T080910
CREATED:20250318T135051Z
LAST-MODIFIED:20250318T193515Z
UID:10003077-1744394400-1744408800@www.element-eatery.com
SUMMARY:Kyla Mainous
DESCRIPTION:
URL:https://www.element-eatery.com/event/kyla-mainous/
LOCATION:OH
CATEGORIES:Live Music
END:VEVENT
BEGIN:VEVENT
DTSTART;TZID=America/New_York:20250412T110000
DTEND;TZID=America/New_York:20250412T140000
DTSTAMP:20260422T080910
CREATED:20250318T135051Z
LAST-MODIFIED:20250318T193644Z
UID:10003078-1744455600-1744466400@www.element-eatery.com
SUMMARY:Craft Sale
DESCRIPTION:
URL:https://www.element-eatery.com/event/craft-sale/
LOCATION:Solare Cafe\, Cincinnati\, OH\, United States
CATEGORIES:Community
GEO:39.153872;-84.385808
END:VEVENT
BEGIN:VEVENT
DTSTART;TZID=America/New_York:20250412T130000
DTEND;TZID=America/New_York:20250412T160000
DTSTAMP:20260422T080910
CREATED:20250318T135052Z
LAST-MODIFIED:20250318T193650Z
UID:10003080-1744462800-1744473600@www.element-eatery.com
SUMMARY:Hillary Hahn
DESCRIPTION:
URL:https://www.element-eatery.com/event/hillary-hahn/
LOCATION:OH
CATEGORIES:Live Music
END:VEVENT
BEGIN:VEVENT
DTSTART;TZID=America/New_York:20250412T180000
DTEND;TZID=America/New_York:20250412T220000
DTSTAMP:20260422T080910
CREATED:20250318T135052Z
LAST-MODIFIED:20250318T193654Z
UID:10003081-1744480800-1744495200@www.element-eatery.com
SUMMARY:Carey Hunley Trio
DESCRIPTION:
URL:https://www.element-eatery.com/event/carey-hunley-trio/
LOCATION:OH
CATEGORIES:Live Music
END:VEVENT
BEGIN:VEVENT
DTSTART;TZID=America/New_York:20250413T170000
DTEND;TZID=America/New_York:20250413T200000
DTSTAMP:20260422T080910
CREATED:20250318T135052Z
LAST-MODIFIED:20250318T193658Z
UID:10003084-1744563600-1744574400@www.element-eatery.com
SUMMARY:Matt Waters
DESCRIPTION:
URL:https://www.element-eatery.com/event/matt-waters-2/
LOCATION:OH
CATEGORIES:Live Music
END:VEVENT
BEGIN:VEVENT
DTSTART;VALUE=DATE:20250414
DTEND;VALUE=DATE:20250415
DTSTAMP:20260422T080910
CREATED:20250318T135052Z
LAST-MODIFIED:20250318T194256Z
UID:10003083-1744588800-1744675199@www.element-eatery.com
SUMMARY:Happy birthday!
DESCRIPTION:Happy birthday!
URL:https://www.element-eatery.com/event/happy-birthday/
LOCATION:OH
CATEGORIES:Community
END:VEVENT
BEGIN:VEVENT
DTSTART;TZID=America/New_York:20250414T190000
DTEND;TZID=America/New_York:20250414T210000
DTSTAMP:20260422T080910
CREATED:20250314T174227Z
LAST-MODIFIED:20260129T135009Z
UID:10002006-1744657200-1744664400@www.element-eatery.com
SUMMARY:Trivia Night
DESCRIPTION:
URL:https://www.element-eatery.com/event/trivia/2025-04-14/
LOCATION:Element Eatery\, 5350 Medpace Way\, Cincinnati\, OH\, 45227\, United States
CATEGORIES:Trivia
ATTACH;FMTTYPE=image/jpeg:https://www.element-eatery.com/wp-content/uploads/2025/03/DSC_0050copy.jpg
END:VEVENT
BEGIN:VEVENT
DTSTART;TZID=America/New_York:20250415T190000
DTEND;TZID=America/New_York:20250415T210000
DTSTAMP:20260422T080910
CREATED:20250318T135105Z
LAST-MODIFIED:20251205T151536Z
UID:10003997-1744743600-1744750800@www.element-eatery.com
SUMMARY:Mix Tape Bingo Night
DESCRIPTION:
URL:https://www.element-eatery.com/event/bingo-night/2025-04-15/
LOCATION:Element Eatery\, 5350 Medpace Way\, Cincinnati\, OH\, 45227\, United States
CATEGORIES:Entertainment
ATTACH;FMTTYPE=image/jpeg:https://www.element-eatery.com/wp-content/uploads/2025/09/DSC_6537-Enhanced-NRcopy.jpg
END:VEVENT
BEGIN:VEVENT
DTSTART;TZID=America/New_York:20250416T190000
DTEND;TZID=America/New_York:20250416T210000
DTSTAMP:20260422T080910
CREATED:20250318T135105Z
LAST-MODIFIED:20260129T135432Z
UID:10004042-1744830000-1744837200@www.element-eatery.com
SUMMARY:Mix Tape Music Bingo
DESCRIPTION:
URL:https://www.element-eatery.com/event/mix-tape-music-bingo/2025-04-16/
LOCATION:Element Eatery\, 5350 Medpace Way\, Cincinnati\, OH\, 45227\, United States
CATEGORIES:Entertainment
ATTACH;FMTTYPE=image/jpeg:https://www.element-eatery.com/wp-content/uploads/2025/12/DSC_0042copy.jpg
END:VEVENT
BEGIN:VEVENT
DTSTART;TZID=America/New_York:20250418T180000
DTEND;TZID=America/New_York:20250418T220000
DTSTAMP:20260422T080910
CREATED:20250318T135052Z
LAST-MODIFIED:20250318T193734Z
UID:10003088-1744999200-1745013600@www.element-eatery.com
SUMMARY:Cadillac Preachers
DESCRIPTION:
URL:https://www.element-eatery.com/event/cadillac-preachers/
LOCATION:OH
CATEGORIES:Live Music
END:VEVENT
BEGIN:VEVENT
DTSTART;TZID=America/New_York:20250419T130000
DTEND;TZID=America/New_York:20250419T160000
DTSTAMP:20260422T080910
CREATED:20250318T135052Z
LAST-MODIFIED:20250318T193737Z
UID:10003090-1745067600-1745078400@www.element-eatery.com
SUMMARY:Jay Reynolds
DESCRIPTION:
URL:https://www.element-eatery.com/event/jay-reynolds-2/
LOCATION:OH
CATEGORIES:Live Music
END:VEVENT
BEGIN:VEVENT
DTSTART;TZID=America/New_York:20250419T150000
DTEND;TZID=America/New_York:20250419T180000
DTSTAMP:20260422T080910
CREATED:20250318T135052Z
LAST-MODIFIED:20250318T193741Z
UID:10003093-1745074800-1745085600@www.element-eatery.com
SUMMARY:Easter Fun!  Madhater\, and Alice
DESCRIPTION:
URL:https://www.element-eatery.com/event/easter-fun-madhater-and-alice/
LOCATION:OH
CATEGORIES:Family
END:VEVENT
BEGIN:VEVENT
DTSTART;TZID=America/New_York:20250419T163000
DTEND;TZID=America/New_York:20250419T180000
DTSTAMP:20260422T080910
CREATED:20250318T135052Z
LAST-MODIFIED:20250318T193745Z
UID:10003092-1745080200-1745085600@www.element-eatery.com
SUMMARY:Easter Bunny at EE
DESCRIPTION:
URL:https://www.element-eatery.com/event/easter-bunny-at-ee/
LOCATION:OH
CATEGORIES:Family
END:VEVENT
BEGIN:VEVENT
DTSTART;TZID=America/New_York:20250421T190000
DTEND;TZID=America/New_York:20250421T210000
DTSTAMP:20260422T080910
CREATED:20250314T174227Z
LAST-MODIFIED:20260129T135009Z
UID:10002007-1745262000-1745269200@www.element-eatery.com
SUMMARY:Trivia Night
DESCRIPTION:
URL:https://www.element-eatery.com/event/trivia/2025-04-21/
LOCATION:Element Eatery\, 5350 Medpace Way\, Cincinnati\, OH\, 45227\, United States
CATEGORIES:Trivia
ATTACH;FMTTYPE=image/jpeg:https://www.element-eatery.com/wp-content/uploads/2025/03/DSC_0050copy.jpg
END:VEVENT
BEGIN:VEVENT
DTSTART;TZID=America/New_York:20250422T190000
DTEND;TZID=America/New_York:20250422T210000
DTSTAMP:20260422T080910
CREATED:20250318T135105Z
LAST-MODIFIED:20251205T151536Z
UID:10003998-1745348400-1745355600@www.element-eatery.com
SUMMARY:Mix Tape Bingo Night
DESCRIPTION:
URL:https://www.element-eatery.com/event/bingo-night/2025-04-22/
LOCATION:Element Eatery\, 5350 Medpace Way\, Cincinnati\, OH\, 45227\, United States
CATEGORIES:Entertainment
ATTACH;FMTTYPE=image/jpeg:https://www.element-eatery.com/wp-content/uploads/2025/09/DSC_6537-Enhanced-NRcopy.jpg
END:VEVENT
BEGIN:VEVENT
DTSTART;TZID=America/New_York:20250423T190000
DTEND;TZID=America/New_York:20250423T210000
DTSTAMP:20260422T080910
CREATED:20250318T135105Z
LAST-MODIFIED:20260129T135432Z
UID:10004043-1745434800-1745442000@www.element-eatery.com
SUMMARY:Mix Tape Music Bingo
DESCRIPTION:
URL:https://www.element-eatery.com/event/mix-tape-music-bingo/2025-04-23/
LOCATION:Element Eatery\, 5350 Medpace Way\, Cincinnati\, OH\, 45227\, United States
CATEGORIES:Entertainment
ATTACH;FMTTYPE=image/jpeg:https://www.element-eatery.com/wp-content/uploads/2025/12/DSC_0042copy.jpg
END:VEVENT
BEGIN:VEVENT
DTSTART;TZID=America/New_York:20250424T180000
DTEND;TZID=America/New_York:20250424T220000
DTSTAMP:20260422T080910
CREATED:20250318T135052Z
LAST-MODIFIED:20250424T155741Z
UID:10003097-1745517600-1745532000@www.element-eatery.com
SUMMARY:Lee Dixon and Cevin West
DESCRIPTION:
URL:https://www.element-eatery.com/event/tyler-moore/
LOCATION:OH
CATEGORIES:Live Music
END:VEVENT
BEGIN:VEVENT
DTSTART;TZID=America/New_York:20250426T130000
DTEND;TZID=America/New_York:20250426T160000
DTSTAMP:20260422T080910
CREATED:20250318T135052Z
LAST-MODIFIED:20250318T193800Z
UID:10003100-1745672400-1745683200@www.element-eatery.com
SUMMARY:Jeff Limer
DESCRIPTION:
URL:https://www.element-eatery.com/event/jeff-limer/
LOCATION:OH
CATEGORIES:Live Music
END:VEVENT
BEGIN:VEVENT
DTSTART;TZID=America/New_York:20250428T190000
DTEND;TZID=America/New_York:20250428T210000
DTSTAMP:20260422T080910
CREATED:20250314T174227Z
LAST-MODIFIED:20260129T135009Z
UID:10002008-1745866800-1745874000@www.element-eatery.com
SUMMARY:Trivia Night
DESCRIPTION:
URL:https://www.element-eatery.com/event/trivia/2025-04-28/
LOCATION:Element Eatery\, 5350 Medpace Way\, Cincinnati\, OH\, 45227\, United States
CATEGORIES:Trivia
ATTACH;FMTTYPE=image/jpeg:https://www.element-eatery.com/wp-content/uploads/2025/03/DSC_0050copy.jpg
END:VEVENT
END:VCALENDAR